Workbook

Sheet Indian Bidder
A1: PRICE FORMAT FOR INDIAN BIDDERS | P1: Annexure-A
A2: NAME OF PROJECT: | C2: 2X490 MW NTPC NCTPP, DADRI STAGE-II (FGD SYSTEM PACKAGE) | G2: E-5948/2018 Dated 22.05.2018
A3: NAME OF PACKAGE: | C3: HVAC SYSTEM
A4: TECHNICAL SPECIFICATION No: | C4: PE-TS-436-(571-13000-A)-A001 | G4: SUPPLY | M4: E&C | P4: Total Price Excluding GST INR | Q4: Total price in words
A5: S. No. | B5: DESCRIPTION | D5: HSN / SAC CODE | E5: UNIT | F5: QTY | G5: Unit Ex-works duly packed (INR) | H5: Total Ex-works duly packed (INR) | I5: Type of GST (IGST/CGST + SGST/UTGST) | J5: Freight % of Total Ex-works | K5: Freight in INR | L5: Total FOR site price excluding GST (INR) | M5: Unit E&C Price (INR) | N5: Total E&C Price (INR) | O5: Type of GST (IGST/CGST + SGST/UTGST)
A6: 1 | B6: Total lump sum firm price inclusive of all prevailing taxes, duties and other levies for Supply part including Operation and maintenance spares and Services comprising of design (i.e.preparation and submission of drawing /documents including “As Built” drawings and O&M manuals), engineering, manufacture, fabrication, assembly, inspection / testing at vendor's & sub-vendor’s works, painting, maintenance tools & tackles, fill of lubricants & consumables alongwith spares for erection, startup and commissioning as required, forwarding, proper packing, shipment and delivery at site, unloading, handling, transportation & storage at site, in-site transportation, assembly, erection & commissioning, final painting at site, minor civil work, trial run at site and carrying out Performance guarantee / Functional / Demonstration tests at site (As applicable), training of NTPC/BHEL's O&M staff and handover in flawless condition of the package to the end customer complete with all accessories for the total scope defined as per BHEL NIT & tender technical specification as specified above, amendment & agreements till placement of order.
A7: 2 | B7: MAJOR BREAK-UP OF PRICES GIVEN IN 1.0 ABOVE.
A8: 2.1 | B8: Total lump sum firm price inclusive of all prevailing taxes, duties and other levies for Supply part comprising of design (i.e.preparation and submission of drawing /documents including “As Built” drawings and O&M manuals), engineering, manufacture, fabrication, assembly, inspection / testing at vendor's & sub-vendor’s works, painting, maintenance tools & tackles (as per Appendix-A), fill of lubricants & consumables alongwith spares for erection (as per Appendix-B), startup and commissioning spares as required, forwarding, proper packing, shipment and delivery at site for the total scope defined as per BHEL NIT & tender technical specification as specified above, amendment & agreements till placement of order. (Break-up as per Annexure-I) | D8: 8415 82 90 | E8: Lot | F8: 1 | G8: ='Annexure-I'!F89 -> 0 | H8: =+G8*F8 -> 0 | K8: =+J8*H8 -> 0 | L8: =H8+K8 -> 0 | M8: NOT APPLICABLE | P8: =+L8 -> 0 | Q8: =IF(P8=0,"-",ConvertCurrencyToEnglish(P8)) -> -
A9: 2.2 | B9: Total lumpsum firm prices inclusive of all prevailing taxes, duties and other levies for Services comprising of service part for unloading, handling, transportation & storage at site, in-site transportation, assembly, erection & commissioning, final painting at site, minor civil work, trial run at site and carrying out Performance guarantee / Functional / Demonstration tests at site (As applicable), Training of NTPC/BHEL personnel for total 15 days (in 3-4 parts of 4-5 days each) covering hands on experience of operation and maintenance of air conditioning and ventilation system. Site personnel shall be trained for operation and maintenance activities covering daily, weekly, monthly, quarterly and yearly maintenance checks and handover in flawless condition of the package to the end customer complete with all accessories for the total scope defined as per BHEL NIT & tender technical specification as specified above, amendment & agreements till placement of order. (Break-up as per Annexure-I) | D9: 995463 | E9: Lot | F9: 1 | G9: NOT APPLICABLE | M9: =+'Annexure-I'!L89 -> 0 | N9: =+M9*F9 -> 0 | P9: =+N9 -> 0 | Q9: =IF(P9=0,"-",ConvertCurrencyToEnglish(P9)) -> - | S9: IGST | T9: CGST + SGST | U9: CGST + UTGST
A10: 2.3 | B10: Total lumpsum firm price inclusive of all prevailing taxes, duties and other levies for Operation and maintenance spares comprising of manufacture, fabrication, assembly, inspection / testing (as applicable) at vendor's & sub-vendor’s works, painting, forwarding, proper packing, shipment, delivery at site & guarantee as per tender technical specification above, amendment & agreements till placement of order. (Break up of Operation and maintenance spares is to be furnished as per Annexure- II) | D10: 8415 90 00 | E10: Lot | F10: 1 | G10: =+'Annexure - II'!E141 -> 0 | H10: =+G10*F10 -> 0 | K10: =+J10*H10 -> 0 | L10: =+H10+K10 -> 0 | M10: NOT APPLICABLE | P10: =+L10 -> 0 | Q10: =IF(P10=0,"-",ConvertCurrencyToEnglish(P10)) -> -
A11: Note: 1. Prices shall be firm unless otherwise specifically indicated in NIT. 2. CGST/SGST/UGST/IGST shall be paid at actuals against documentary evidence subjected to the maximum of GST corresponding to above HSN/SAC code. 3. Evaluation shall be done one the basis of total lump sum prices for complete supply and services but excluding GST. 4. Vendor to quote prices in words also. 5. Nature of GST on Services at project site shall not be allowed to change after bidding. 6. Breakup of prices in annexure-I, II, Appendix-A & BI should be correct. Evaluation shall be done on quoted price in annexure-A only. If mismatch (calculation mistake) in breakup will be found then breakup will be adjusted with respect to quoted price in annexure-A.
A13: Particulars of bidder / authorised representative
B15: Name | C15: Designation | E15: Signature | F15: Date

Sheet Foreign Bidder
A1: PRICE FORMAT FOR FOREIGN BIDDERS | O1: Annexure-A
A2: NAME OF PROJECT: | C2: 2X490 MW NTPC NCTPP, DADRI STAGE-II (FGD SYSTEM PACKAGE) | G2: E-5948/2018 Dated 22.05.2018
A3: NAME OF PACKAGE: | C3: HVAC SYSTEM
A4: TECHNICAL SPECIFICATION No: | C4: PE-TS-436-(571-13000-A)-A001 | G4: Imported content | J4: Indigenous content | O4: E&C
A5: S. No. | B5: DESCRIPTION | D5: HSN / SAC CODE | E5: UNIT | F5: QTY | G5: Total C & F -PRICE (Currency) | H5: Custom Duty INR after availing input tax credit (INR) | I5: Inland Freight (INR) | J5: Total Ex-works duly packed (INR) | K5: Type of GST (IGST/CGST + SGST/UTGST) | L5: Freight % of Total Ex-works | M5: Freight in INR | N5: Total for Indigenous content (INR) | O5: Total E&C Price (INR) | P5: Type of GST (IGST/CGST + SGST/UTGST) | Q5: Total Price in Words
A6: 1 | B6: Total lump sum firm price inclusive of all prevailing taxes, duties and other levies for Supply part including Operation and maintenance spares and Services comprising of design (i.e.preparation and submission of drawing /documents including “As Built” drawings and O&M manuals), engineering, manufacture, fabrication, assembly, inspection / testing at vendor's & sub-vendor’s works, painting, maintenance tools & tackles, fill of lubricants & consumables alongwith spares for erection, startup and commissioning as required, forwarding, proper packing, shipment and delivery at site, unloading, handling, transportation & storage at site, in-site transportation, assembly, erection & commissioning, final painting at site, minor civil work, trial run at site and carrying out Performance guarantee / Functional / Demonstration tests at site (As applicable), training of NTPC/BHEL's O&M staff and handover in flawless condition of the package to the end customer complete with all accessories for the total scope defined as per BHEL NIT & tender technical specification as specified above, amendment & agreements till placement of order.
A7: 2 | B7: MAJOR BREAK-UP OF PRICES GIVEN IN 1.0 ABOVE.
A8: 2.1 | B8: Total lump sum firm price inclusive of all prevailing taxes, duties and other levies for Supply part comprising of design (i.e.preparation and submission of drawing /documents including “As Built” drawings and O&M manuals), engineering, manufacture, fabrication, assembly, inspection / testing at vendor's & sub-vendor’s works, painting, maintenance tools & tackles (as per Appendix-A), fill of lubricants & consumables alongwith spares for erection (as per Appendix-B), startup and commissioning spares as required, forwarding, proper packing, shipment and delivery at site for the total scope defined as per BHEL NIT & tender technical specification as specified above, amendment & agreements till placement of order. (Break-up as per Annexure-I) | D8: 8415 82 90 | E8: Lot | F8: 1 | G8: =+'Annexure-I'!H89 -> 0 | J8: ='Annexure-I'!J89 -> 0 | M8: =+L8*J8 -> 0 | N8: =J8+M8 -> 0 | O8: NOT APPLICABLE | Q8: =IF(N8=0, " ",ConvertCurrencyToEnglish(N8))
A9: 2.2 | B9: Total lumpsum firm prices inclusive of all prevailing taxes, duties and other levies for Services comprising of service part for unloading, handling, transportation & storage at site, in-site transportation, assembly, erection & commissioning, final painting at site, minor civil work, trial run at site and carrying out Performance guarantee / Functional / Demonstration tests at site (As applicable), Training of NTPC/BHEL personnel for total 15 days (in 3-4 parts of 4-5 days each) covering hands on experience of operation and maintenance of air conditioning and ventilation system. Site personnel shall be trained for operation and maintenance activities covering daily, weekly, monthly, quarterly and yearly maintenance checks and handover in flawless condition of the package to the end customer complete with all accessories for the total scope defined as per BHEL NIT & tender technical specification as specified above, amendment & agreements till placement of order. (Break-up as per Annexure-I) | D9: 995463 | E9: Lot | F9: 1 | G9: NOT APPLICABLE | O9: =+'Annexure-I'!L89 -> 0 | Q9: =IF(O9=0, " ",ConvertCurrencyToEnglish(O9)) | R9: IGST | S9: CGST + SGST | T9: CGST + UTGST
A10: 2.3 | B10: Total lumpsum firm price inclusive of all prevailing taxes, duties and other levies for Operation and maintenance spares comprising of manufacture, fabrication, assembly, inspection / testing (as applicable) at vendor's & sub-vendor’s works, painting, forwarding, proper packing, shipment, delivery at site & guarantee as per tender technical specification above, amendment & agreements till placement of order. (Break up of Operation and maintenance spares is to be furnished as per Annexure- II) | D10: 8415 90 00 | E10: Lot | F10: 1 | G10: ='Annexure - II'!F141 -> 0 | J10: =+'Annexure - II'!G141 -> 0 | M10: =+L10*J10 -> 0 | N10: =J10+M10 -> 0 | O10: NOT APPLICABLE | Q10: =IF(N10=0, " ",ConvertCurrencyToEnglish(N10))
A11: Note: 1. Prices shall be firm unless otherwise specifically indicated in NIT. 2. CGST/SGST/UGST/IGST shall be paid at actuals against documentary evidence subjected to the maximum of GST corresponding to above HSN/SAC code. 3. Evaluation shall be done one the basis of total lump sum prices for complete supply and services but excluding GST. 4. Vendor to quote prices in words also. 5. Nature of GST on Services at project site shall not be allowed to change after bidding. 6. Breakup of prices in annexure-I, II, Appendix-A & BI should be correct. Evaluation shall be done on quoted price in annexure-A only. If mismatch (calculation mistake) in breakup will be found then breakup will be adjusted with respect to quoted price in annexure-A.
A13: Particulars of bidder / authorised representative
B15: Name | C15: Designation | E15: Signature | F15: Date

Sheet Annexure-I
A1: PRICE FORMAT ANNEXURE - I
A4: NAME OF PROJECT: | C4: 2X490 MW NTPC NCTPP, DADRI STAGE-II (FGD SYSTEM PACKAGE) | G4: ENQ No- E-5948/2018 Dated 22.05.2018
A5: NAME OF PACKAGE: | C5: HVAC SYSTEM
A6: TECHNICAL SPECIFICATION No: | C6: PE-TS-436-(571-13000-A)-A001
C7: UNIT | D7: Qty | E7: SUPPLY | K7: E&C
E8: INDIAN BIDDERS | G8: FOREIGN BIDDERS
G9: Imported content | I9: Indigenous content
A10: SL NO | B10: DESCRIPTION | E10: Unit Ex-works duly packed (INR) | F10: Total Ex-works duly packed (INR) | G10: Unit C & F - Price (Currency) | H10: Total C & F - Price (Currency) | I10: Unit Ex-works duly packed (INR) | J10: Total Ex-works duly packed (INR) | K10: Unit E&C Price (INR) | L10: Total E&C Price (INR)
B11: AC SYSTEM
A12: A | B12: AC SYSTEM
A13: 1 | B13: DX type, air cooled condensing unit of minimum 30 TR (ACTUAL) capacity. The refrigerant compressor shall be Scroll, hermetic / Semi-hermetic type suitable for Refrigerant R-134a / R-407c / R-410a environment friendly HFC refrigerants with drive package, Suction and discharge valves, capacity control system, expansion valve, crank case heater etc. A control panel shall be provided to house all gauges and controls. The panel shall contain all necessary terminal strips to facilitate external wiring. The unit shall be complete with expansion valve, all necessary fittings, accessories, insulated refrigerant piping to and from AHUs, foundation bolts, nuts, washers etc complete in all respect. | C13: 2 | D13: NO | F13: =+E13*C13 -> 0 | H13: =+G13*C13 -> 0 | J13: =+I13*C13 -> 0 | L13: =+K13*C13 -> 0
A14: =A13+1 -> 2 | B14: Sheet metal cabinet type air handling units (double skin as per specification) The draw through horizontal AHUs shall comprise of , Dampers, pre filter, fine filters, DX- cooling coil, Electric heating coil, Electric steam humidifier and Fan section with fan & TEFC sq cage induction motor, VVVFD, drive set, condensate drain pan, thermostatic controls and other accessories, like ladder along with supporting structure for filer and plenum, etc. to meet the AC load of control room area as per specification. Each centrifugal fan shall be provided with VFD driven motor alongwith VFD (Along with starter panel) and other accessories as required for VFD shall also be included in the price. | C14: 2 | D14: NO | F14: =+E14*C14 -> 0 | H14: =+G14*C14 -> 0 | J14: =+I14*C14 -> 0 | L14: =+K14*C14 -> 0
A15: =A14+1 -> 3 | B15: Monsoon reheating / winter heating kit comprising strip heaters, safety controls, air-stat, contactors, frame work, thermostat etc. | C15: 1 | D15: LOT | F15: =+E15*C15 -> 0 | H15: =+G15*C15 -> 0 | J15: =+I15*C15 -> 0 | L15: =+K15*C15 -> 0
A16: =A15+1 -> 4 | B16: Pan type humidifier, comprising gyser stat, for each AHU room. | C16: 1 | D16: LOT | F16: =+E16*C16 -> 0 | H16: =+G16*C16 -> 0 | J16: =+I16*C16 -> 0 | L16: =+K16*C16 -> 0
A17: =A16+1 -> 5 | B17: Fresh air fan (axial flow type), complete with motor, inlet cone, air filters (pre and fine), dampers etc. | C17: 1 | D17: LOT | F17: =+E17*C17 -> 0 | H17: =+G17*C17 -> 0 | J17: =+I17*C17 -> 0 | L17: =+K17*C17 -> 0
A18: 6* | B18: Thermal insulation of supply air duct & return air duct with finish as specified. | C18: 600 | D18: SQM* | F18: =+E18*C18 -> 0 | H18: =+G18*C18 -> 0 | J18: =+I18*C18 -> 0 | L18: =+K18*C18 -> 0
A19: 7* | B19: MS medium class drain piping upto nearest drain point with insulation & cladded and without insulation
A20: a* | B20: 50mm | C20: 20 | D20: Rmt* | F20: =+E20*C20 -> 0 | H20: =+G20*C20 -> 0 | J20: =+I20*C20 -> 0 | L20: =+K20*C20 -> 0
A21: b* | B21: 40mm | C21: 20 | D21: Rmt* | F21: =+E21*C21 -> 0 | H21: =+G21*C21 -> 0 | J21: =+I21*C21 -> 0 | L21: =+K21*C21 -> 0
A22: 8* | B22: Air Cooled PAC-Unit complete with all accessories as specified The package unit shall be complete with all accessories like duct hetaers, pan humidifier, filters, acoustic insulation of duct for 5m from PU, drain piping with insulation upto nearest drain, required instrumentation etc
A23: (a)* | B23: 10 TR net capacity | C23: 1 | D23: No* | F23: =+E23*C23 -> 0 | H23: =+G23*C23 -> 0 | J23: =+I23*C23 -> 0 | L23: =+K23*C23 -> 0
A24: 9* | B24: Air-cooled split type AC units consisting of condensing unit & evaporating unit including refrigerant pipes & fittings with insulation etc.
A25: (a)* | B25: 5.0 TR capacity (ductable type, 415 V, 3 phase with isolation switch). | C25: 1 | D25: NO* | F25: =+E25*C25 -> 0 | H25: =+G25*C25 -> 0 | J25: =+I25*C25 -> 0 | L25: =+K25*C25 -> 0
A26: (b)* | B26: 3.0 TR capacity (non-ductable type, 240 V, 1 phase ) with isolation switch , i.e MCB of suitable rating as specified, voltage stabilizer, cabling, all supporting structure and refrigerent piping to suite actual site condition. | C26: 12 | D26: NO* | F26: =+E26*C26 -> 0 | H26: =+G26*C26 -> 0 | J26: =+I26*C26 -> 0 | L26: =+K26*C26 -> 0
A27: (c)* | B27: 2.0 TR capacity (non-ductable type, 240 V, 1 phase ) with isolation switch , i.e MCB of suitable rating as specified, voltage stabilizer, cabling, all supporting structure and refrigerent piping to suite actual site condition. | C27: 14 | D27: NO* | F27: =+E27*C27 -> 0 | H27: =+G27*C27 -> 0 | J27: =+I27*C27 -> 0 | L27: =+K27*C27 -> 0
A28: (d)* | B28: 1.5 TR capacity (non-ductable type, 240 V, 1 phase ) with isolation switch , i.e MCB of suitable rating as specified, voltage stabilizer, cabling, all supporting structure and refrigerent piping to suite actual site condition. | C28: 14 | D28: NO* | F28: =+E28*C28 -> 0 | H28: =+G28*C28 -> 0 | J28: =+I28*C28 -> 0 | L28: =+K28*C28 -> 0
A29: 10* | B29: Ocuupancy sensor | C29: 2 | D29: NO* | F29: =+E29*C29 -> 0 | H29: =+G29*C29 -> 0 | J29: =+I29*C29 -> 0 | L29: =+K29*C29 -> 0
A30: 11* | B30: VAV (Variable air Volume) BOX | C30: 2 | D30: SQM* | F30: =+E30*C30 -> 0 | H30: =+G30*C30 -> 0 | J30: =+I30*C30 -> 0 | L30: =+K30*C30 -> 0
A31: B | B31: VENTILATION SYSTEM
A32: 1 | B32: Unitary air filtration unit with centrifugal fan with motor, pumps with motors, filters, UAF internals, inlet air louvers, piping as per IS: 1239 pt I (heavy class galvanised), valves, nozzles, back wash arrangement, galvanised drain piping etc. as per specification of capacity 1,15,000 CMH. Each UAF has 1 no centrifugal fan (1 x 100% duty) of capacity 1,15,000 CMH at min. 60 mmWC SP. | C32: 1 | D32: NO | F32: =+E32*C32 -> 0 | H32: =+G32*C32 -> 0 | J32: =+I32*C32 -> 0 | L32: =+K32*C32 -> 0
A33: 2* | B33: Thermal insulation alongwith finish as per specification for supply air duct | C33: 600 | D33: SQM* | F33: =+E33*C33 -> 0 | H33: =+G33*C33 -> 0 | J33: =+I33*C33 -> 0 | L33: =+K33*C33 -> 0
A34: 3* | B34: Roof extractor units (axial flow type) with hood, disconnect switch and all accessories as specified. Following fan shall have 15 mmwc static pressure.
A35: a)* | B35: Capacity 40,000 CMH with Motor rating 5.5 KW | C35: 1 | D35: Nos.* | F35: =+E35*C35 -> 0 | H35: =+G35*C35 -> 0 | J35: =+I35*C35 -> 0 | L35: =+K35*C35 -> 0
A36: b)* | B36: Capacity 20,000 CMH with Motor rating 2.2 KW | C36: 1 | D36: Nos.* | F36: =+E36*C36 -> 0 | H36: =+G36*C36 -> 0 | J36: =+I36*C36 -> 0 | L36: =+K36*C36 -> 0
A37: 4* | B37: Axial flow supply fans with pre and fine filter (wall mounted) complete with casing, TEFC sq cage induction motors & mounting frame, MS rain protection cowl, bird screen and all other accessories (suitable for 415V/3-phase supply). Following fan shall have 30 mmwc static pressure.
A38: a)* | B38: Capacity 10,000 CMH with Motor rating 2.2 KW | C38: 3 | D38: Nos.* | F38: =+E38*C38 -> 0 | H38: =+G38*C38 -> 0 | J38: =+I38*C38 -> 0 | L38: =+K38*C38 -> 0
A39: b)* | B39: Capacity 7,500 CMH with Motor rating 1.5 KW | C39: 3 | D39: Nos.* | F39: =+E39*C39 -> 0 | H39: =+G39*C39 -> 0 | J39: =+I39*C39 -> 0 | L39: =+K39*C39 -> 0
A40: c)* | B40: Capacity 6,000 CMH with Motor rating 1.1 KW | C40: 3 | D40: Nos.* | F40: =+E40*C40 -> 0 | H40: =+G40*C40 -> 0 | J40: =+I40*C40 -> 0 | L40: =+K40*C40 -> 0
A41: d)* | B41: Capacity 4,000 CMH with Motor rating 0.75 KW | C41: 3 | D41: Nos.* | F41: =+E41*C41 -> 0 | H41: =+G41*C41 -> 0 | J41: =+I41*C41 -> 0 | L41: =+K41*C41 -> 0
A42: 5* | B42: Axial flow supply fans with pre filter (wall mounted) complete with casing, TEFC sq cage induction motors & mounting frame, MS rain protection cowl, bird screen and all other accessories (suitable for 415V/3-phase supply) as specified. Following fan shall have 20 mmwc static pressure.
A43: a)* | B43: Capacity 10,000 CMH with Motor rating 1.5 KW | C43: 8 | D43: Nos.* | F43: =+E43*C43 -> 0 | H43: =+G43*C43 -> 0 | J43: =+I43*C43 -> 0 | L43: =+K43*C43 -> 0
A44: b)* | B44: Capacity 7,500 CMH with Motor rating 1.1 KW | C44: 8 | D44: Nos.* | F44: =+E44*C44 -> 0 | H44: =+G44*C44 -> 0 | J44: =+I44*C44 -> 0 | L44: =+K44*C44 -> 0
A45: c)* | B45: Capacity 6,000 CMH with Motor rating 1.1 KW | C45: 8 | D45: Nos.* | F45: =+E45*C45 -> 0 | H45: =+G45*C45 -> 0 | J45: =+I45*C45 -> 0 | L45: =+K45*C45 -> 0
A46: d)* | B46: Capacity 4,000 CMH with Motor rating 0.75 KW | C46: 8 | D46: Nos.* | F46: =+E46*C46 -> 0 | H46: =+G46*C46 -> 0 | J46: =+I46*C46 -> 0 | L46: =+K46*C46 -> 0
A47: 6* | B47: Axial flow exhaust fans (Bifurcated type, spark proof construction, wall mounted) complete with casing, flame proof motor & mounting frame, MS rain protection cowl, bird screen and all other accessories epoxy painted (suitable for 415V/3-phase supply) as specified. Following fan shall have 15 mmwc static pressure.
A48: a)* | B48: Capacity 10,000 CMH withMotor rating 1.5 KW | C48: 5 | D48: Nos.* | F48: =+E48*C48 -> 0 | H48: =+G48*C48 -> 0 | J48: =+I48*C48 -> 0 | L48: =+K48*C48 -> 0
A49: b)* | B49: Capacity 7,500 CMH with Motor rating 1.1 KW | C49: 5 | D49: Nos.* | F49: =+E49*C49 -> 0 | H49: =+G49*C49 -> 0 | J49: =+I49*C49 -> 0 | L49: =+K49*C49 -> 0
A50: c)* | B50: Capacity 4,000 CMH with Motor rating 0.55 KW | C50: 5 | D50: Nos.* | F50: =+E50*C50 -> 0 | H50: =+G50*C50 -> 0 | J50: =+I50*C50 -> 0 | L50: =+K50*C50 -> 0
A51: d)* | B51: Capacity 2,000 CMH with Motor rating 0.55 KW | C51: 5 | D51: Nos.* | F51: =+E51*C51 -> 0 | H51: =+G51*C51 -> 0 | J51: =+I51*C51 -> 0 | L51: =+K51*C51 -> 0
A52: 7* | B52: Axial flow exhaust fans (Wall mounted) complete with casing,TEFC sq cage induction motor & mounting frame, MS rain protection cowl, bird screen and all other accessories epoxy painted (suitable for 415V/3-phase supply) as specified.Following fan shall have 10 mmwc static pressure.
A53: a)* | B53: Capacity 15,000 CMH with Motor rating 1.1 KW | C53: 10 | D53: Nos.* | F53: =+E53*C53 -> 0 | H53: =+G53*C53 -> 0 | J53: =+I53*C53 -> 0 | L53: =+K53*C53 -> 0
A54: b)* | B54: Capacity 10,000 CMH with Motor rating 0.75 KW | C54: 10 | D54: Nos.* | F54: =+E54*C54 -> 0 | H54: =+G54*C54 -> 0 | J54: =+I54*C54 -> 0 | L54: =+K54*C54 -> 0
A55: c)* | B55: Capacity 7,500 CMH with Motor rating 0.55 KW | C55: 10 | D55: Nos.* | F55: =+E55*C55 -> 0 | H55: =+G55*C55 -> 0 | J55: =+I55*C55 -> 0 | L55: =+K55*C55 -> 0
A56: d)* | B56: Capacity 6,000 CMH with Motor rating 0.55 KW | C56: 10 | D56: Nos.* | F56: =+E56*C56 -> 0 | H56: =+G56*C56 -> 0 | J56: =+I56*C56 -> 0 | L56: =+K56*C56 -> 0
A57: e)* | B57: Capacity 4,000 CMH with Motor rating 0.55 KW | C57: 10 | D57: Nos.* | F57: =+E57*C57 -> 0 | H57: =+G57*C57 -> 0 | J57: =+I57*C57 -> 0 | L57: =+K57*C57 -> 0
A58: f)* | B58: Capacity 2,000 CMH with Motor rating 0.37 KW | C58: 10 | D58: Nos.* | F58: =+E58*C58 -> 0 | H58: =+G58*C58 -> 0 | J58: =+I58*C58 -> 0 | L58: =+K58*C58 -> 0
A59: 8* | B59: Exhaust fan (propeller type) completes with induction motor & mounting frame MS rain protection cowl, bird screen and all other accessories as specified (suitable for 240V/ 1 phase). Following fan shall have 5 mmwc static pressure.
A60: a)* | B60: Capacity 1000 CMH with Motor rating 100 watts | C60: 30 | D60: Nos.* | F60: =+E60*C60 -> 0 | H60: =+G60*C60 -> 0 | J60: =+I60*C60 -> 0 | L60: =+K60*C60 -> 0
A61: C | B61: COMMON FOR AC AND VENTILATION SYSTEM
A62: 1* | B62: Supply air ducting (finished) for above area complete with dampers, grills (with VCD & without VCD), supports (painted) and all accessories as specified.
A63: 1.1* | B63: Finished (Actual quantity of duct erected at site, excluding the scrap) GSS (zinc coating 275 gms/sq.m) Ducting with support structure etc.
A64: a)* | B64: 18 G | C64: 400 | D64: SQM* | F64: =+E64*C64 -> 0 | H64: =+G64*C64 -> 0 | J64: =+I64*C64 -> 0 | L64: =+K64*C64 -> 0
A65: b)* | B65: 20 G | C65: 400 | D65: SQM* | F65: =+E65*C65 -> 0 | H65: =+G65*C65 -> 0 | J65: =+I65*C65 -> 0 | L65: =+K65*C65 -> 0
A66: c)* | B66: 22 G | C66: 825 | D66: SQM* | F66: =+E66*C66 -> 0 | H66: =+G66*C66 -> 0 | J66: =+I66*C66 -> 0 | L66: =+K66*C66 -> 0
A67: d)* | B67: 24 G | C67: 825 | D67: SQM* | F67: =+E67*C67 -> 0 | H67: =+G67*C67 -> 0 | J67: =+I67*C67 -> 0 | L67: =+K67*C67 -> 0
A68: 1.2* | B68: Supply air Grill/diffuser with VCD (Extruded Aluminium). | C68: 30 | D68: SQM* | F68: =+E68*C68 -> 0 | H68: =+G68*C68 -> 0 | J68: =+I68*C68 -> 0 | L68: =+K68*C68 -> 0
A69: 1.3* | B69: Return air Grill/diffuser without VCD (Extruded Aluminium). | C69: 25 | D69: SQM* | F69: =+E69*C69 -> 0 | H69: =+G69*C69 -> 0 | J69: =+I69*C69 -> 0 | L69: =+K69*C69 -> 0
A70: 1.4* | B70: Supply air Grill/diffuser with VCD (MS, POWDER COATED). | C70: 7 | D70: SQM* | F70: =+E70*C70 -> 0 | H70: =+G70*C70 -> 0 | J70: =+I70*C70 -> 0 | L70: =+K70*C70 -> 0
A71: 1.5* | B71: Return air Grill/diffuser without VCD (MS, POWDER COATED). | C71: 7 | D71: SQM* | F71: =+E71*C71 -> 0 | H71: =+G71*C71 -> 0 | J71: =+I71*C71 -> 0 | L71: =+K71*C71 -> 0
A72: 1.6* | B72: Volume control damper in GI construction as per specification | C72: 35 | D72: SQM* | F72: =+E72*C72 -> 0 | H72: =+G72*C72 -> 0 | J72: =+I72*C72 -> 0 | L72: =+K72*C72 -> 0
A73: 1.7* | B73: Wall mounted dampers (gravity operated) for different areas. | C73: 65 | D73: SQM* | F73: =+E73*C73 -> 0 | H73: =+G73*C73 -> 0 | J73: =+I73*C73 -> 0 | L73: =+K73*C73 -> 0
A74: 1.8* | B74: Inlet Louvres | C74: 40 | D74: SQM* | F74: =+E74*C74 -> 0 | H74: =+G74*C74 -> 0 | J74: =+I74*C74 -> 0 | L74: =+K74*C74 -> 0
A75: 1.9* | B75: MS Duct With Epoxy paint for battery room. | C75: 50 | D75: SQM* | F75: =+E75*C75 -> 0 | H75: =+G75*C75 -> 0 | J75: =+I75*C75 -> 0 | L75: =+K75*C75 -> 0
A76: 2* | B76: ACOUSTIC INSULATION (AS PER THE SPECIFICATION) | C76: 300 | D76: SQM* | F76: =+E76*C76 -> 0 | H76: =+G76*C76 -> 0 | J76: =+I76*C76 -> 0 | L76: =+K76*C76 -> 0
A77: 3* | B77: FIRE DAMPER
A78: a)* | B78: Fire damper | C78: 25 | D78: SQM* | F78: =+E78*C78 -> 0 | H78: =+G78*C78 -> 0 | J78: =+I78*C78 -> 0 | L78: =+K78*C78 -> 0
A79: b*) | B79: Fusible Link type Fire Damper | C79: 5 | D79: NO* | F79: =+E79*C79 -> 0 | H79: =+G79*C79 -> 0 | J79: =+I79*C79 -> 0 | L79: =+K79*C79 -> 0
A80: 4* | B80: Motorized Actuator with single phase power supply for the above Fire damper and Volume control damper with auto resetting, limit switches, indication lamps etc. | C80: 10 | D80: NO* | F80: =+E80*C80 -> 0 | H80: =+G80*C80 -> 0 | J80: =+I80*C80 -> 0 | L80: =+K80*C80 -> 0
A81: 5* | B81: Handling arrangement for ventilation equipments
A82: a)* | B82: Manually operated, platform trolley of 1Ton capacity | C82: 1 | D82: NO* | F82: =+E82*C82 -> 0 | H82: =+G82*C82 -> 0 | J82: =+I82*C82 -> 0 | L82: =+K82*C82 -> 0
A83: b)* | B83: 1T Chain pulley block with travelling trolley | C83: 1 | D83: NO* | F83: =+E83*C83 -> 0 | H83: =+G83*C83 -> 0 | J83: =+I83*C83 -> 0 | L83: =+K83*C83 -> 0
A84: c)* | B84: 1T chain pulley block without travelling trolley | C84: 1 | D84: No. * | F84: =+E84*C84 -> 0 | H84: =+G84*C84 -> 0 | J84: =+I84*C84 -> 0 | L84: =+K84*C84 -> 0
A85: 6 | B85: Cable tray, condutes, junction box,lugs and glands, Local control panel and Field instruments like pressure gauge, temperature gauge, switches and transmitters for pressure, flow and temperature measurement, differential pressure switch across filters, flow meters, RH and Temperature sensor and other required instruments as per specifications, including necessary control panel form hook up with main DDCMIS as per specifications | C85: 1 | D85: LOT | F85: =+E85*C85 -> 0 | H85: =+G85*C85 -> 0 | J85: =+I85*C85 -> 0 | L85: =+K85*C85 -> 0
A86: 7* | B86: Providing full support during FAT of DDCMIS, preparation of control scheme, and commissining of DDCMIS as per relevent specification. | C86: 20 | D86: Mandays* | F86: =+E86*C86 -> 0 | H86: =+G86*C86 -> 0 | J86: =+I86*C86 -> 0 | K86: NA | L86: NA
A87: 8 | B87: Total lumpsum price for special tools & tackles for maintenance inclusive of packing forwarding, transportation up to site, etc. (Break up of to be furnished as per Appendix- A) | C87: 1 | D87: LOT | E87: =+'APPENDIX-A'!F48 -> 0 | F87: =+E87*C87 -> 0 | G87: =+'APPENDIX-A'!H48 -> 0 | H87: =+G87*C87 -> 0 | I87: =+'APPENDIX-A'!J48 -> 0 | J87: =+I87*C87 -> 0 | K87: NA | L87: NA
A88: 9 | B88: Total lumpsum price for commissioning spares inclusive of packing forwarding, transportation up to site, etc. (Break up of to be furnished as per Appendix- B) | C88: 1 | D88: LOT | E88: =+'APPENDIX-B'!E15 -> 0 | F88: =+E88*C88 -> 0 | G88: =+'APPENDIX-B'!F15 -> 0 | H88: =+G88*C88 -> 0 | I88: =+'APPENDIX-B'!G15 -> 0 | J88: =+I88*C88 -> 0 | K88: NA | L88: NA
A89: Total | F89: =SUM(F13:F88) -> 0 | H89: =SUM(H13:H88) -> 0 | J89: =SUM(J13:J88) -> 0 | L89: =SUM(L13:L88) -> 0
A90: NOTES
A91: 1 | B91: The bidder shall furnish unit rates for variable item (marked *) for necessary adjustment (plus or minus) variation during detailed engg. stage. The unit rates quoted above shall be considered and no separate unit rates shall be quoted. Unit rates shall be valid throughout the contract.
A92: 2 | B92: Any other item not indicated above, but required to make the system complete in all respects, as per the technical specification, shall be supplied without any cost implication to BHEL.

Sheet Annexure - II
A1: PRICE FORMAT ANNEXURE-II LIST OF O&M SPARES
A4: NAME OF PROJECT: | C4: 2X490 MW NTPC NCTPP, DADRI STAGE-II (FGD SYSTEM PACKAGE)
A5: NAME OF PACKAGE: | C5: HVAC SYSTEM
A6: TECHNICAL SPECIFICATION: | C6: PE-TS-436-(571-13000-A)-A001 | E6: Indian Bidder | F6: Foreign Bidder
A7: ENQ No- E-5948/2018 Dated 22.05.2018 | F7: Imported content | G7: Indigenous content
A8: Sl. No. | B8: ITEM DESCRIPTION | C8: QTY. | D8: UNIT | E8: Total Ex-works duly packed (INR) | F8: Total C & F - Price (Currency) | G8: Total Ex-works duly packed (INR)
A10: A | B10: AC SYSTEM
A11: 1 | B11: Air cooled condensing unit
A12: a | B12: Oil filter- O Ring (If applicable) | C12: 1 | D12: set
A13: b | B13: Refrigerant filter | C13: 1 | D13: set
A14: c | B14: Master soilenoid valve (If applicable) | C14: 1 | D14: no
A15: d | B15: Condenser fan motor | C15: 1 | D15: no
A16: e | B16: Compressor for air cooled condensing unit | C16: 1 no of each type/rating | D16: no
A17: f | B17: Fan motor bearing, bushes/sleeves | C17: 1 | D17: set
A18: g | B18: Condenser fan | C18: 2 | D18: no
A19: h | B19: Expansion valve | C19: 3 | D19: no
A20: i | B20: Low pressure cut-off switch | C20: 1 | D20: no
A21: j | B21: High pressure cut-off switch | C21: 1 | D21: no
A22: k | B22: Sight glass | C22: 1 no. of each type/size/rating | D22: no
A23: l | B23: Linkage of Modulating motor | C23: 1 | D23: set
A24: m | B24: PCB controller with remote hand set | C24: 1 | D24: no.
A25: n | B25: Electrical contactor | C25: 1 no. of each type/size/rating | D25: no.
A26: o | B26: Condensing coil | C26: 1 | D26: set
A27: 2 | B27: Air handling unit
A28: a | B28: V-belts for AHU blower | C28: 1 | D28: set
A29: b | B29: AHU blower bearings, bushes/sleeves | C29: 1 | D29: set
A30: c | B30: Blower motor | C30: 1 | D30: no
A31: d | B31: Blower motor bearing, bushes/sleeves | C31: 1 | D31: set
A32: e | B32: Filter at suction and discharge of all AHUs | C32: 10 % of installed population or 1 no whichever is higher | D32: no
A33: 3 | B33: Fresh Air Fan
A34: a | B34: Fan bearings, bushes/sleeves | C34: 1 | D34: set
A35: b | B35: Fan motor bearing, bushes/sleeves | C35: 1 | D35: set
A36: c | B36: complete fan and motor for fresh air fan | C36: 1 | D36: no
A37: d | B37: Filter for fresh air fan | C37: 10 % of installed population or 1 no whichever is higher | D37: no
A38: 4 | B38: Strip heater | C38: 2 no of each type/size/rating | D38: no
A39: 5 | B39: Immersion heater for pan humidifier | C39: 2 no of each type/size/rating | D39: no
A40: 6 | B40: Valve, strainer & accessories | C40: 1 no of each type/size/rating | D40: no
A41: 10* | B41: Air cooled Package AC
A42: 10.1* | B42: Outdoor Unit
A43: a | B43: Refrigerant filter | C43: 1 | D43: set
A44: b | B44: Master soilenoid valve (If applicable) | C44: 1 | D44: no
A45: c | B45: Condenser fan motor | C45: 1 | D45: no
A46: d | B46: Compressor for air cooled condensing unit | C46: 1 no of each type/rating | D46: no
A47: e | B47: Fan motor bearing, bushes/sleeves | C47: 1 | D47: set
A48: f | B48: Condenser fan | C48: 2 | D48: no
A49: g | B49: Expansion valve | C49: 1 | D49: no
A50: h | B50: Low pressure cut-off switch (if applicable) | C50: 1 | D50: no
A51: i | B51: High pressure cut-off switch (If applicable) | C51: 1 | D51: no
A52: j | B52: Linkage of Modulating motor | C52: 1 | D52: set
A53: k | B53: PCB controller with remote hand set | C53: 1 | D53: no.
A54: l | B54: Electrical contactor | C54: 1 no. of each type/size/rating | D54: no.
A55: 10.2* | B55: Indoor Unit
A56: a | B56: Blower bearings, bushes/sleeves | C56: 1 | D56: set
A57: b | B57: Blower motor | C57: 1 | D57: no
A58: c | B58: Blower motor bearing, bushes/sleeves | C58: 1 | D58: set
A59: d | B59: Filter at suction and discharge | C59: 10 % of installed population or 1 no whichever is higher | D59: no
A60: 11* | B60: Compressors for 5.0 TR capacity ductable split AC | C60: 1 | D60: no
A61: 12* | B61: Compressors for 3.0 TR capacity split AC | C61: 2 | D61: no
A62: 13* | B62: Compressors for 2.0 TR capacity split AC | C62: 2 | D62: no
A63: 14* | B63: Compressors for 1.5 TR capacity split AC | C63: 2 | D63: no
A64: 15* | B64: Condenser fan with motor for outdoor unit of 5.0 TR capacity ductable split AC | C64: 1 | D64: no
A65: 16* | B65: Condenser fan with motor for outdoor unit of 3.0 TR capacity split AC | C65: 2 | D65: no
A66: 17* | B66: Condenser fan with motor for outdoor unit of 2.0 TR capacity split AC | C66: 2 | D66: no
A67: 18* | B67: Condenser fan with motor for outdoor unit of 1.5 TR capacity split AC | C67: 2 | D67: no
A68: 19* | B68: PCB controller for 5.0 TR capacity ductable split AC | C68: 2 | D68: no.
A69: 20* | B69: PCB controller for 3.0 TR capacity split AC | C69: 2 | D69: no.
A70: 21* | B70: PCB controller for 2.0 TR capacity split AC | C70: 2 | D70: no.
A71: 22* | B71: PCB controller for 1.5 TR capacity split AC | C71: 2 | D71: no.
A72: B | B72: VENTILATION SYSTEM
A73: 1 | B73: Unitary air filtration unit
A74: 1.1 | B74: Supply air fan
A75: a | B75: V-belt for supply air fans | C75: 2 | D75: set
A76: b | B76: Supply air fan bearing, bushes/sleeves | C76: 2 | D76: set
A77: c | B77: motor for supply air fan | C77: 1 | D77: no
A78: d | B78: Supply air fan motor bearing, bushes/sleeves | C78: 2 | D78: set
A79: 1.2 | B79: UAF pump
A80: a | B80: Complete pump motor assembly | C80: 1 | D80: set
A81: b | B81: Pump bearing , bushes/sleeves | C81: 2 | D81: set
A82: c | B82: Pump motor bearing, bushes/sleeves | C82: 2 | D82: set
A83: d | B83: Gland packing for pump | C83: 1 | D83: set
A84: 1.3 | B84: Filter for UAF | C84: 5% of total population or 1 no whichever is higher | D84: no
A85: 1.4 | B85: Spray nozzle for UAF | C85: 10% of total population or 1 no whichever is higher | D85: no
A86: 1.5 | B86: Basket for strainer | C86: 1 | D86: no
A87: 1.6 | B87: Brass suction screen/strainer for Unitary air filtration tank | C87: 1 | D87: set
A88: 1.7 | B88: Valve (Gate/globe/NRV/Float etc.) & accessories | C88: 1 no of each type/size/rating | D88: no
A89: 2 | B89: Pre-Filter for axial fan | C89: 5% of total population or 1 no whichever is higher | D89: no
A90: 3 | B90: Fine filter for axial fan | C90: 5% of total population or 1 no whichever is higher | D90: no
A91: 4* | B91: Roof extractor units (axial flow type) with TEFC sq cage induction motors (suitable for 415V/3-phase supply).Following fan shall have 15 mmwc static pressure.
A92: a)* | B92: Capacity 40,000 CMH with Motor rating 5.5 KW | C92: 1 | D92: no
A93: b)* | B93: Capacity 20,000 CMH with Motor rating 2.2 KW | C93: 1 | D93: no
A94: 5* | B94: Axial flow supply fans with TEFC sq cage induction motors (suitable for 415V/3-phase supply). Following fan shall have 30 mmwc static pressure.
A95: a)* | B95: Capacity 10,000 CMH with Motor rating 2.2 KW | C95: 2 | D95: no
A96: b)* | B96: Capacity 7,500 CMH with Motor rating 1.5 KW | C96: 2 | D96: no
A97: c)* | B97: Capacity 6,000 CMH with Motor rating 1.1 KW | C97: 2 | D97: no
A98: d)* | B98: Capacity 4,000 CMH with Motor rating 0.75 KW | C98: 2 | D98: no
A99: 6* | B99: Axial flow supply fans with TEFC sq cage induction motors (suitable for 415V/3-phase supply) as specified. Following fan shall have 20 mmwc static pressure.
A100: a)* | B100: Capacity 10,000 CMH with Motor rating 1.5 KW | C100: 2 | D100: no
A101: b)* | B101: Capacity 7,500 CMH with Motor rating 1.1 KW | C101: 2 | D101: no
A102: c)* | B102: Capacity 6,000 CMH with Motor rating 1.1 KW | C102: 2 | D102: no
A103: d)* | B103: Capacity 4,000 CMH with Motor rating 0.75 KW | C103: 2 | D103: no
...

Sheet APPENDIX-A
A1: PRICE FORMAT APPENDIX - A Maintenance tools & tackles
A3: NAME OF PROJECT: | C3: 2X490 MW NTPC NCTPP, DADRI STAGE-II (FGD SYSTEM PACKAGE)
A4: NAME OF PACKAGE: | C4: HVAC SYSTEM | E4: SUPPLY
A5: TECHNICAL SPECIFICATION No: | C5: PE-TS-436-(571-13000-A)-A001 | E5: INDIAN BIDDERS | G5: FOREIGN BIDDERS
A6: SL NO | B6: DESCRIPTION | C6: UNIT | D6: Qty | G6: Imported content | I6: Indigenous content
E7: Unit Ex-works duly packed (INR) | F7: Total Ex-works duly packed (INR) | G7: Unit C & F - Price (Currency) | H7: Total C & F - Price (Currency) | I7: Unit Ex-works duly packed (INR) | J7: Total Ex-works duly packed (INR)
A8: 1 | B8: FLAT D WRENCH - 6 MM TO 32 MM (12 Pcs) | C8: SET | D8: 1 | F8: =+D8*$E8 -> 0 | H8: =+G8*$D8 -> 0 | J8: =+I8*D8 -> 0
A9: 2 | B9: BOX WRENCHES - 6 MM TO 22 MM (14 Pcs) | C9: SET | D9: 1 | F9: =+D9*$E9 -> 0 | H9: =+G9*$D9 -> 0 | J9: =+I9*D9 -> 0
A10: 3 | B10: RING SPANNER - 6 MM TO 32 MM (12 Pcs) | C10: SET | D10: 1 | F10: =+D10*$E10 -> 0 | H10: =+G10*$D10 -> 0 | J10: =+I10*D10 -> 0
A11: 4 | B11: ALLEN KEYS - 2 MM TO 10 MM | C11: SET | D11: 1 | F11: =+D11*$E11 -> 0 | H11: =+G11*$D11 -> 0 | J11: =+I11*D11 -> 0
A12: 5 | B12: CRESCENT SCREW SPANNER | C12: NO. | D12: 1 | F12: =+D12*$E12 -> 0 | H12: =+G12*$D12 -> 0 | J12: =+I12*D12 -> 0
A13: 6 | B13: SCREW DRIVER | C13: NO. | D13: 1 | F13: =+D13*$E13 -> 0 | H13: =+G13*$D13 -> 0 | J13: =+I13*D13 -> 0
A14: 7 | B14: OFFSET SCREW DRIVER | C14: NO. | D14: 1 | F14: =+D14*$E14 -> 0 | H14: =+G14*$D14 -> 0 | J14: =+I14*D14 -> 0
A15: 8 | B15: INSULATED PLIER | C15: NO. | D15: 1 | F15: =+D15*$E15 -> 0 | H15: =+G15*$D15 -> 0 | J15: =+I15*D15 -> 0
A16: 9 | B16: TORCH LIGHT ( SUITABLE FOR 2 CELL) | C16: NO. | D16: 1 | F16: =+D16*$E16 -> 0 | H16: =+G16*$D16 -> 0 | J16: =+I16*D16 -> 0
A17: 10 | B17: HAMMER 1 LB | C17: NO. | D17: 1 | F17: =+D17*$E17 -> 0 | H17: =+G17*$D17 -> 0 | J17: =+I17*D17 -> 0
A18: 11 | B18: OIL CAN | C18: NO. | D18: 1 | F18: =+D18*$E18 -> 0 | H18: =+G18*$D18 -> 0 | J18: =+I18*D18 -> 0
A19: 12 | B19: POCKET THERMOMETER - 0 TO 50 DEG. C | C19: NO. | D19: 1 | F19: =+D19*$E19 -> 0 | H19: =+G19*$D19 -> 0 | J19: =+I19*D19 -> 0
... A47: 40 | B47: Box spanner set | C47: SET | D47: 1 | F47: =+D47*$E47 -> 0 | H47: =+G47*$D47 -> 0 | J47: =+I47*D47 -> 0
A48: Total | F48: =SUM(F8:F47) -> 0 | H48: =SUM(H8:H47) -> 0 | J48: =SUM(J8:J47) -> 0
A49: NOTES
A50: 1 | B50: ABOVE IS THE MINIMUM LIST. ANY OTHER TOOL / TACKEL REQUIRED FOR THE SYSTEM SHALL ALSO BE PROVIDED BY THE VENDOR WITHOUT ANY COST IMPLICATION.

Sheet APPENDIX-B
A1: PRICE FORMAT APPENDIX - B Commissioning spares
A3: NAME OF PROJECT: | C3: 2X490 MW NTPC NCTPP, DADRI STAGE-II (FGD SYSTEM PACKAGE)
A4: NAME OF PACKAGE: | C4: HVAC SYSTEM | E4: Indian Bidder | F4: Foreign Bidder
A5: TECHNICAL SPECIFICATION No: | C5: PE-TS-436-(571-13000-A)-A001 | F5: Imported content | G5: Indigenous content
A6: SL NO | B6: DESCRIPTION | C6: UNIT | D6: Qty | E6: Total Ex-works duly packed (INR) | F6: Total C & F - Price (Currency) | G6: Total Ex-works duly packed (INR)
A8: 1 | B8: FAN BELTS | C8: SET | D8: 1
A9: 2 | B9: PRESSURE GAUGE | C9: NO. | D9: 1
A10: 3 | B10: TEMPERATURE GAUGE | C10: NO. | D10: 1
A11: 4 | B11: FILTER | C11: SET | D11: 1
A12: 5 | B12: COMPRESSOR OIL | C12: Ltr. | D12: 1 Lot
A13: 6 | B13: REFRIGERANT | C13: Kg | D13: 1 Lot
A14: 7 | B14: LUBRICANT (EACH TYPE) | C14: Ltr. | D14: 1 Lot
A15: Total | E15: =+SUM(E8:E14) -> 0 | F15: =+SUM(F8:F14) -> 0 | G15: =+SUM(G8:G14) -> 0
A16: NOTES
A17: 1 | B17: ABOVE IS THE MINIMUM LIST. ANY OTHER COMMISSIONING SPARE REQUIRED FOR THE SYSTEM SHALL ALSO BE PROVIDED BY THE VENDOR WITHOUT ANY COST IMPLICATION.
